BEGIN:VCALENDAR
VERSION:2.0
PRODID:-//Naked Man Events - ECPv4.6.2//NONSGML v1.0//EN
CALSCALE:GREGORIAN
METHOD:PUBLISH
X-WR-CALNAME:Naked Man Events
X-ORIGINAL-URL:http://nakedmanevents.com.au
X-WR-CALDESC:Events for Naked Man Events
BEGIN:VEVENT
DTSTART;VALUE=DATE:20160702
DTEND;VALUE=DATE:20160704
DTSTAMP:20190227T114155
CREATED:20160508T101602Z
LAST-MODIFIED:20160529T035405Z
UID:25-1467417600-1467590399@nakedmanevents.com.au
SUMMARY:Exploring Intimate Touch (Melbourne)
DESCRIPTION:A workshop for gay and sexually diverse men\nFor men who desire a different kind of connection\nThe ‘Exploring Intimate Touch’ workshop is an opportunity to gather together and take a step into a deeper understanding of our erotic\, playful and sensual body. Exploring ‘Betty Martin’s Wheel of Consent’ we will learn how the hidden dynamics of touch\, when unlocked and brought into consciousness can bring powerful insights. Connecting us to our deeper qualities of gratitude\, surrender\, integrity and being of service to another. \nWhen left hidden away\, touch can become unconscious\, disembodied and even harmful. \nDuring this two-day workshop we will take time to immerse ourselves into the four dynamics of touch; Giving\, Receiving\, Taking and Allowing. \nTogether we’ll create a safe and boundaried space to work on each other’s bodies and become more skilled at the rich and juicy qualities held within each of these dynamics. We’ll gain a greater understanding of how consent\, or the lack of consent always changes our experience of touch. \nDuring this weekend you will begin to: \n\nLearn how to recognise your boundaries and work within consent.\nHave a deeper understanding of the dynamics of different types of touch.\nLearn how to use breath\, movement and sound to spread erotic sensation throughout the body and increase your capacity for pleasure.\nGain new techniques for soft and erect genital touch.\nBuild a healthier relationship towards our self and our bodies.\nDevelop intimate and caring relationships with other men.\nAfter participating in this workshop you will have a fresh\, new\, way of bringing touch into your world.\n\nThis workshop will primarily be unclothed. There will be full body touch and we will work in a large group\, in pairs and individually. It is important that you are able to sit on the floor comfortably for extended periods of time with both hands free for touch sessions.\n
URL:http://nakedmanevents.com.au/event/exploring-intimate-touch-melbourne/
LOCATION:Ground Floor\, 1 Pitt Street\, Brunswick\, Victoria\, 3056\, Australia
GEO:-37.7711984;144.9711714
X-APPLE-STRUCTURED-LOCATION;VALUE=URI;X-ADDRESS=Ground Floor 1 Pitt Street Brunswick Victoria 3056 Australia;X-APPLE-RADIUS=500;X-TITLE=Ground Floor\, 1 Pitt Street:geo:144.9711714,-37.7711984
ATTACH;FMTTYPE=image/png:http://nakedmanevents.com.au/wp-content/uploads/2016/05/workshop-1280-bw.png
END:VEVENT
END:VCALENDAR